BEGIN:VCALENDAR
VERSION:2.0
PRODID:SchoolNow
CALSCALE:GREGORIAN
BEGIN:VEVENT
UID:4e84f5c8-829f-11f0-a733-025850da6195
DTSTAMP:20250826T170837Z
SUMMARY:CDD Board Meeting - Jun. 2026
LOCATION:The Northwood Clubhouse located at 27248 Big Sur Drive\, Wesley Ch
 apel\, FL 33544
URL;VALUE=URI:https://www.northwoodcdd.com/calendar/8545697/cdd-board-meeti
 ng-jun-2026
DTSTART:20260615T223000Z
DTEND:20260615T233000Z
END:VEVENT
END:VCALENDAR
